BEGIN:VCALENDAR
VERSION:2.0
PRODID:-//Tukios.com/
BEGIN:VEVENT
UID:932987c2-372b-407d-8447-6524854eba61@www.brockandvisser.com
DTSTAMP:20260421T043535Z
DTSTART:20260426T170000Z
DTEND:20260426T200000Z
SUMMARY:Celebration of Life
DESCRIPTION:
URL:https://www.brockandvisser.com/obituaries/barbara-jean-kleiner
LOCATION: 642 Dundas Street  Woodstock ON N4S 1E3
GEO:43.1310475;-80.7494722
END:VEVENT
END:VCALENDAR