BEGIN:VCALENDAR
VERSION:2.0
PRODID:-//Tukios.com/
BEGIN:VEVENT
UID:9a34b83d-a0f1-4d74-87ba-11a7b42cbc5d@www.brockandvisser.com
DTSTAMP:20260420T181757Z
DTSTART:20260424T160000Z
DTEND:20260424T190000Z
SUMMARY:Celebration of Life
DESCRIPTION:
URL:https://www.brockandvisser.com/obituaries/norman-groen
LOCATION: 845 Devonshire Ave.  Woodstock ON N4S 8Z4
GEO:43.1450864;-80.7438845
END:VEVENT
END:VCALENDAR