BEGIN:VCALENDAR
VERSION:2.0
PRODID:-//Tukios.com/
BEGIN:VEVENT
UID:93dc450b-a399-4ea7-888e-5322fe9d1824@www.brockandvisser.com
DTSTAMP:20260422T180657Z
DTSTART:20260427T140000Z
DTEND:20260427T150000Z
SUMMARY:Visitation
DESCRIPTION:
URL:https://www.brockandvisser.com/obituaries/veronica-mceachran
LOCATION:Brock and Visser Funeral Home 845 Devonshire Avenue  Woodstock 
	ON N4S 8Z4
GEO:43.1450864;-80.7438845
END:VEVENT
END:VCALENDAR