BEGIN:VCALENDAR
VERSION:2.0
PRODID:-//Tukios.com/
BEGIN:VEVENT
UID:827ef8e9-5edd-4816-a165-09cd5a259dae@www.brockandvisser.com
DTSTAMP:20260422T180759Z
DTSTART:20260427T150000Z
DTEND:20260427T160000Z
SUMMARY:Funeral Service
DESCRIPTION:
URL:https://www.brockandvisser.com/obituaries/veronica-mceachran
LOCATION:Brock and Visser Funeral Home 845 Devonshire Avenue  Woodstock 
	ON N4S 8Z4
GEO:43.1450864;-80.7438845
END:VEVENT
END:VCALENDAR